BEGIN:VCALENDAR
VERSION:2.0
PRODID:-//City of Vine Grove - ECPv6.15.20//NONSGML v1.0//EN
CALSCALE:GREGORIAN
METHOD:PUBLISH
X-ORIGINAL-URL:https://vinegrove.org
X-WR-CALDESC:Events for City of Vine Grove
REFRESH-INTERVAL;VALUE=DURATION:PT1H
X-Robots-Tag:noindex
X-PUBLISHED-TTL:PT1H
BEGIN:VTIMEZONE
TZID:America/Kentucky/Louisville
BEGIN:DAYLIGHT
TZOFFSETFROM:-0500
TZOFFSETTO:-0400
TZNAME:EDT
DTSTART:20190310T070000
END:DAYLIGHT
BEGIN:STANDARD
TZOFFSETFROM:-0400
TZOFFSETTO:-0500
TZNAME:EST
DTSTART:20191103T060000
END:STANDARD
BEGIN:DAYLIGHT
TZOFFSETFROM:-0500
TZOFFSETTO:-0400
TZNAME:EDT
DTSTART:20200308T070000
END:DAYLIGHT
BEGIN:STANDARD
TZOFFSETFROM:-0400
TZOFFSETTO:-0500
TZNAME:EST
DTSTART:20201101T060000
END:STANDARD
BEGIN:DAYLIGHT
TZOFFSETFROM:-0500
TZOFFSETTO:-0400
TZNAME:EDT
DTSTART:20210314T070000
END:DAYLIGHT
BEGIN:STANDARD
TZOFFSETFROM:-0400
TZOFFSETTO:-0500
TZNAME:EST
DTSTART:20211107T060000
END:STANDARD
END:VTIMEZONE
BEGIN:VEVENT
DTSTART;TZID=America/Kentucky/Louisville:20200403T183000
DTEND;TZID=America/Kentucky/Louisville:20200403T203000
DTSTAMP:20260423T003621
CREATED:20190822T155837Z
LAST-MODIFIED:20190822T172427Z
UID:10001713-1585938600-1585945800@vinegrove.org
SUMMARY:Fire Cause/Investigation
DESCRIPTION:Fire Cause/Investigation: April 3 from 6:30 – 8:30 p.m.
URL:https://vinegrove.org/event/fire-cause-investigation/
CATEGORIES:Fire Department
END:VEVENT
BEGIN:VEVENT
DTSTART;TZID=America/Kentucky/Louisville:20200408T080000
DTEND;TZID=America/Kentucky/Louisville:20200408T170000
DTSTAMP:20260423T003621
CREATED:20190822T160109Z
LAST-MODIFIED:20190822T172454Z
UID:10001714-1586332800-1586365200@vinegrove.org
SUMMARY:Water Supply
DESCRIPTION:Water Supply: April 8 from 7:30 – 9:30 p.m.
URL:https://vinegrove.org/event/water-supply/
CATEGORIES:Fire Department
END:VEVENT
BEGIN:VEVENT
DTSTART;TZID=America/Kentucky/Louisville:20200415T193000
DTEND;TZID=America/Kentucky/Louisville:20200415T213000
DTSTAMP:20260423T003621
CREATED:20190822T160314Z
LAST-MODIFIED:20190822T172532Z
UID:10001715-1586979000-1586986200@vinegrove.org
SUMMARY:Forcible Entry
DESCRIPTION:Forcible Entry: April 15 from 7:30 – 9:30 p.m.
URL:https://vinegrove.org/event/forcible-entry/
CATEGORIES:Fire Department
END:VEVENT
BEGIN:VEVENT
DTSTART;TZID=America/Kentucky/Louisville:20200417T183000
DTEND;TZID=America/Kentucky/Louisville:20200417T203000
DTSTAMP:20260423T003621
CREATED:20190822T160430Z
LAST-MODIFIED:20190822T172554Z
UID:10001716-1587148200-1587155400@vinegrove.org
SUMMARY:Loss Control
DESCRIPTION:Loss Control: April 17 from 6:30 – 8:30 p.m.
URL:https://vinegrove.org/event/loss-control/
CATEGORIES:Fire Department
END:VEVENT
BEGIN:VEVENT
DTSTART;TZID=America/Kentucky/Louisville:20200420T180000
DTEND;TZID=America/Kentucky/Louisville:20200420T190000
DTSTAMP:20260423T003621
CREATED:20190722T144731Z
LAST-MODIFIED:20220516T140530Z
UID:10001008-1587405600-1587409200@vinegrove.org
SUMMARY:Planning & Zoning Meeting
DESCRIPTION:
URL:https://vinegrove.org/event/planning-zoning-meeting/2020-04-20/
LOCATION:Vine Grove City Hall\, 300 West Main Street\, Vine Grove\, KY\, 40175\, United States
CATEGORIES:General
END:VEVENT
BEGIN:VEVENT
DTSTART;TZID=America/Kentucky/Louisville:20200422T080000
DTEND;TZID=America/Kentucky/Louisville:20200422T170000
DTSTAMP:20260423T003621
CREATED:20190822T161037Z
LAST-MODIFIED:20190822T172625Z
UID:10001718-1587542400-1587574800@vinegrove.org
SUMMARY:Ladder
DESCRIPTION:Ladder: April 22 from 7:30 – 9:30 p.m.
URL:https://vinegrove.org/event/ladder/
CATEGORIES:Fire Department
END:VEVENT
BEGIN:VEVENT
DTSTART;TZID=America/Kentucky/Louisville:20200429T193000
DTEND;TZID=America/Kentucky/Louisville:20200429T210000
DTSTAMP:20260423T003621
CREATED:20190822T161202Z
LAST-MODIFIED:20190822T172652Z
UID:10001719-1588188600-1588194000@vinegrove.org
SUMMARY:Search and Rescue Victim
DESCRIPTION:Search and Rescue Victim: April 29 from 7:30 – 9:30 p.m.
URL:https://vinegrove.org/event/search-and-rescue-victim/
CATEGORIES:Fire Department
END:VEVENT
END:VCALENDAR