BEGIN:VCALENDAR
VERSION:2.0
PRODID:-//City of Vine Grove - ECPv6.15.20//NONSGML v1.0//EN
CALSCALE:GREGORIAN
METHOD:PUBLISH
X-WR-CALNAME:City of Vine Grove
X-ORIGINAL-URL:https://vinegrove.org
X-WR-CALDESC:Events for City of Vine Grove
REFRESH-INTERVAL;VALUE=DURATION:PT1H
X-Robots-Tag:noindex
X-PUBLISHED-TTL:PT1H
BEGIN:VTIMEZONE
TZID:America/Kentucky/Louisville
BEGIN:DAYLIGHT
TZOFFSETFROM:-0500
TZOFFSETTO:-0400
TZNAME:EDT
DTSTART:20180311T070000
END:DAYLIGHT
BEGIN:STANDARD
TZOFFSETFROM:-0400
TZOFFSETTO:-0500
TZNAME:EST
DTSTART:20181104T060000
END:STANDARD
BEGIN:DAYLIGHT
TZOFFSETFROM:-0500
TZOFFSETTO:-0400
TZNAME:EDT
DTSTART:20190310T070000
END:DAYLIGHT
BEGIN:STANDARD
TZOFFSETFROM:-0400
TZOFFSETTO:-0500
TZNAME:EST
DTSTART:20191103T060000
END:STANDARD
BEGIN:DAYLIGHT
TZOFFSETFROM:-0500
TZOFFSETTO:-0400
TZNAME:EDT
DTSTART:20200308T070000
END:DAYLIGHT
BEGIN:STANDARD
TZOFFSETFROM:-0400
TZOFFSETTO:-0500
TZNAME:EST
DTSTART:20201101T060000
END:STANDARD
BEGIN:DAYLIGHT
TZOFFSETFROM:-0500
TZOFFSETTO:-0400
TZNAME:EDT
DTSTART:20210314T070000
END:DAYLIGHT
BEGIN:STANDARD
TZOFFSETFROM:-0400
TZOFFSETTO:-0500
TZNAME:EST
DTSTART:20211107T060000
END:STANDARD
END:VTIMEZONE
BEGIN:VEVENT
DTSTART;TZID=America/Kentucky/Louisville:20200403T183000
DTEND;TZID=America/Kentucky/Louisville:20200403T203000
DTSTAMP:20260423T074649
CREATED:20190822T155837Z
LAST-MODIFIED:20190822T172427Z
UID:10001713-1585938600-1585945800@vinegrove.org
SUMMARY:Fire Cause/Investigation
DESCRIPTION:Fire Cause/Investigation: April 3 from 6:30 – 8:30 p.m.
URL:https://vinegrove.org/event/fire-cause-investigation/
CATEGORIES:Fire Department
END:VEVENT
BEGIN:VEVENT
DTSTART;TZID=America/Kentucky/Louisville:20200316T180000
DTEND;TZID=America/Kentucky/Louisville:20200316T190000
DTSTAMP:20260423T074649
CREATED:20190722T144731Z
LAST-MODIFIED:20220516T140530Z
UID:10001007-1584381600-1584385200@vinegrove.org
SUMMARY:Planning & Zoning Meeting
DESCRIPTION:
URL:https://vinegrove.org/event/planning-zoning-meeting/2020-03-16/
LOCATION:Vine Grove City Hall\, 300 West Main Street\, Vine Grove\, KY\, 40175\, United States
CATEGORIES:General
END:VEVENT
BEGIN:VEVENT
DTSTART;TZID=America/Kentucky/Louisville:20200217T180000
DTEND;TZID=America/Kentucky/Louisville:20200217T190000
DTSTAMP:20260423T074649
CREATED:20190722T144731Z
LAST-MODIFIED:20220516T140530Z
UID:10001006-1581962400-1581966000@vinegrove.org
SUMMARY:Planning & Zoning Meeting
DESCRIPTION:
URL:https://vinegrove.org/event/planning-zoning-meeting/2020-02-17/
LOCATION:Vine Grove City Hall\, 300 West Main Street\, Vine Grove\, KY\, 40175\, United States
CATEGORIES:General
END:VEVENT
BEGIN:VEVENT
DTSTART;TZID=America/Kentucky/Louisville:20200120T180000
DTEND;TZID=America/Kentucky/Louisville:20200120T190000
DTSTAMP:20260423T074649
CREATED:20190722T144731Z
LAST-MODIFIED:20220516T140530Z
UID:10001005-1579543200-1579546800@vinegrove.org
SUMMARY:Planning & Zoning Meeting
DESCRIPTION:
URL:https://vinegrove.org/event/planning-zoning-meeting/2020-01-20/
LOCATION:Vine Grove City Hall\, 300 West Main Street\, Vine Grove\, KY\, 40175\, United States
CATEGORIES:General
END:VEVENT
BEGIN:VEVENT
DTSTART;VALUE=DATE:20191224
DTEND;VALUE=DATE:20191226
DTSTAMP:20260423T074649
CREATED:20191211T175602Z
LAST-MODIFIED:20191211T175602Z
UID:10001734-1577145600-1577318399@vinegrove.org
SUMMARY:City Hall Closed in observance of Christmas Holiday
DESCRIPTION:The Vine Grove City Hall will be closed Tuesday\, December 24 and Wednesday\, December 25 in observance of the Christmas Holiday. We will reopen for regular business on Thursday\, December 26. We regret any inconvenience.
URL:https://vinegrove.org/event/city-hall-closed-in-observance-of-christmas-holiday/
END:VEVENT
BEGIN:VEVENT
DTSTART;TZID=America/Kentucky/Louisville:20191216T180000
DTEND;TZID=America/Kentucky/Louisville:20191216T190000
DTSTAMP:20260423T074649
CREATED:20190722T144731Z
LAST-MODIFIED:20220516T140530Z
UID:10001004-1576519200-1576522800@vinegrove.org
SUMMARY:Planning & Zoning Meeting
DESCRIPTION:
URL:https://vinegrove.org/event/planning-zoning-meeting/2019-12-16/
LOCATION:Vine Grove City Hall\, 300 West Main Street\, Vine Grove\, KY\, 40175\, United States
CATEGORIES:General
END:VEVENT
BEGIN:VEVENT
DTSTART;TZID=America/Kentucky/Louisville:20191118T180000
DTEND;TZID=America/Kentucky/Louisville:20191118T190000
DTSTAMP:20260423T074649
CREATED:20190722T144731Z
LAST-MODIFIED:20220516T140530Z
UID:10001003-1574100000-1574103600@vinegrove.org
SUMMARY:Planning & Zoning Meeting
DESCRIPTION:
URL:https://vinegrove.org/event/planning-zoning-meeting/2019-11-18/
LOCATION:Vine Grove City Hall\, 300 West Main Street\, Vine Grove\, KY\, 40175\, United States
CATEGORIES:General
END:VEVENT
BEGIN:VEVENT
DTSTART;TZID=America/Kentucky/Louisville:20191021T180000
DTEND;TZID=America/Kentucky/Louisville:20191021T190000
DTSTAMP:20260423T074649
CREATED:20190722T144731Z
LAST-MODIFIED:20220516T140530Z
UID:10001002-1571680800-1571684400@vinegrove.org
SUMMARY:Planning & Zoning Meeting
DESCRIPTION:
URL:https://vinegrove.org/event/planning-zoning-meeting/2019-10-21/
LOCATION:Vine Grove City Hall\, 300 West Main Street\, Vine Grove\, KY\, 40175\, United States
CATEGORIES:General
END:VEVENT
BEGIN:VEVENT
DTSTART;VALUE=DATE:20190921
DTEND;VALUE=DATE:20190922
DTSTAMP:20260423T074649
CREATED:20190722T145019Z
LAST-MODIFIED:20191127T204654Z
UID:10001078-1569024000-1569110399@vinegrove.org
SUMMARY:Autumn Daze
DESCRIPTION:Join us the third weekend in September for our annual parade down Main Street\, activities for kids and live entertainment. More than 70 craft\, antique\, collectible and delicious food booths await you in Optimist Park.
URL:https://vinegrove.org/event/autumn-daze/
END:VEVENT
BEGIN:VEVENT
DTSTART;TZID=America/Kentucky/Louisville:20190916T180000
DTEND;TZID=America/Kentucky/Louisville:20190916T190000
DTSTAMP:20260423T074649
CREATED:20190722T144731Z
LAST-MODIFIED:20220516T140530Z
UID:10001001-1568656800-1568660400@vinegrove.org
SUMMARY:Planning & Zoning Meeting
DESCRIPTION:
URL:https://vinegrove.org/event/planning-zoning-meeting/2019-09-16/
LOCATION:Vine Grove City Hall\, 300 West Main Street\, Vine Grove\, KY\, 40175\, United States
CATEGORIES:General
END:VEVENT
BEGIN:VEVENT
DTSTART;TZID=America/Kentucky/Louisville:20190822T080000
DTEND;TZID=America/Kentucky/Louisville:20190822T120000
DTSTAMP:20260423T074649
CREATED:20190822T160904Z
LAST-MODIFIED:20190822T172524Z
UID:10001717-1566460800-1566475200@vinegrove.org
SUMMARY:Forcible Entry
DESCRIPTION:Forcible Entry: April 20 from 8 a.m. – 12 p.m.\nDescription: The will be hands-on training
URL:https://vinegrove.org/event/forcible-entry-2/
CATEGORIES:Fire Department
END:VEVENT
BEGIN:VEVENT
DTSTART;TZID=America/Kentucky/Louisville:20190819T180000
DTEND;TZID=America/Kentucky/Louisville:20190819T190000
DTSTAMP:20260423T074649
CREATED:20190722T144731Z
LAST-MODIFIED:20220516T140530Z
UID:10001000-1566237600-1566241200@vinegrove.org
SUMMARY:Planning & Zoning Meeting
DESCRIPTION:
URL:https://vinegrove.org/event/planning-zoning-meeting/2019-08-19/
LOCATION:Vine Grove City Hall\, 300 West Main Street\, Vine Grove\, KY\, 40175\, United States
CATEGORIES:General
END:VEVENT
BEGIN:VEVENT
DTSTART;TZID=America/Kentucky/Louisville:20190722T180000
DTEND;TZID=America/Kentucky/Louisville:20190722T190000
DTSTAMP:20260423T074649
CREATED:20190722T144731Z
LAST-MODIFIED:20220516T140530Z
UID:10000999-1563818400-1563822000@vinegrove.org
SUMMARY:Planning & Zoning Meeting
DESCRIPTION:
URL:https://vinegrove.org/event/planning-zoning-meeting/2019-07-22/
LOCATION:Vine Grove City Hall\, 300 West Main Street\, Vine Grove\, KY\, 40175\, United States
CATEGORIES:General
END:VEVENT
END:VCALENDAR